BEGIN:VCALENDAR
VERSION:2.0
PRODID:-//JU Passau-Stadt - ECPv6.10.1.1//NONSGML v1.0//EN
CALSCALE:GREGORIAN
METHOD:PUBLISH
X-ORIGINAL-URL:https://ju-passau.de
X-WR-CALDESC:Veranstaltungen für JU Passau-Stadt
REFRESH-INTERVAL;VALUE=DURATION:PT1H
X-Robots-Tag:noindex
X-PUBLISHED-TTL:PT1H
BEGIN:VTIMEZONE
TZID:Europe/Helsinki
BEGIN:DAYLIGHT
TZOFFSETFROM:+0200
TZOFFSETTO:+0300
TZNAME:EEST
DTSTART:20230326T010000
END:DAYLIGHT
BEGIN:STANDARD
TZOFFSETFROM:+0300
TZOFFSETTO:+0200
TZNAME:EET
DTSTART:20231029T010000
END:STANDARD
END:VTIMEZONE
BEGIN:VEVENT
DTSTART;TZID=Europe/Helsinki:20230729T100000
DTEND;TZID=Europe/Helsinki:20230730T160000
DTSTAMP:20260419T215737
CREATED:20230605T184348Z
LAST-MODIFIED:20230605T184348Z
UID:398-1690624800-1690732800@ju-passau.de
SUMMARY:Bezirksversammlung JU Niederbayern
DESCRIPTION:
URL:https://ju-passau.de/event/bezirksversammlung-ju-niederbayern/
LOCATION:Landshut
END:VEVENT
END:VCALENDAR