BEGIN:VCALENDAR
VERSION:2.0
PRODID:-//JU Passau-Stadt - ECPv6.10.1.1//NONSGML v1.0//EN
CALSCALE:GREGORIAN
METHOD:PUBLISH
X-ORIGINAL-URL:https://ju-passau.de
X-WR-CALDESC:Veranstaltungen für JU Passau-Stadt
REFRESH-INTERVAL;VALUE=DURATION:PT1H
X-Robots-Tag:noindex
X-PUBLISHED-TTL:PT1H
BEGIN:VTIMEZONE
TZID:Europe/Helsinki
BEGIN:DAYLIGHT
TZOFFSETFROM:+0200
TZOFFSETTO:+0300
TZNAME:EEST
DTSTART:20230326T010000
END:DAYLIGHT
BEGIN:STANDARD
TZOFFSETFROM:+0300
TZOFFSETTO:+0200
TZNAME:EET
DTSTART:20231029T010000
END:STANDARD
END:VTIMEZONE
BEGIN:VEVENT
DTSTART;TZID=Europe/Helsinki:20230908T160000
DTEND;TZID=Europe/Helsinki:20230910T150000
DTSTAMP:20260419T191052
CREATED:20230524T185238Z
LAST-MODIFIED:20230524T185238Z
UID:391-1694188800-1694358000@ju-passau.de
SUMMARY:Landesversammlung JU Bayern
DESCRIPTION:
URL:https://ju-passau.de/event/landesversammlung-ju-bayern/
END:VEVENT
END:VCALENDAR